BEGIN:VCALENDAR
VERSION:2.0
PRODID:icalendar-ruby
CALSCALE:GREGORIAN
METHOD:PUBLISH
BEGIN:VEVENT
DTSTAMP:20260420T015338Z
UID:7-239310@saintpeterumc.org
DTSTART:20260628T144500Z
DTEND:20260629T034500Z
CLASS:PUBLIC
CREATED:20260219T151636
DESCRIPTION:
LAST-MODIFIED:20260219T151636
LOCATION:
SUMMARY:Sunday School
URL;VALUE=URI:https://www.saintpeterumc.org/events/sunday-school/2026-06-28
END:VEVENT
END:VCALENDAR
