BEGIN:VCALENDAR
VERSION:2.0
PRODID:icalendar-ruby
CALSCALE:GREGORIAN
METHOD:PUBLISH
BEGIN:VEVENT
DTSTAMP:20260422T083539Z
UID:7-239314@saintpeterumc.org
DTSTART:20260726T144500Z
DTEND:20260727T034500Z
CLASS:PUBLIC
CREATED:20260219T151636
DESCRIPTION:
LAST-MODIFIED:20260219T151636
LOCATION:
SUMMARY:Sunday School
URL;VALUE=URI:https://www.saintpeterumc.org/events/sunday-school/2026-07-26
END:VEVENT
END:VCALENDAR
