BEGIN:VCALENDAR
VERSION:2.0
PRODID:icalendar-ruby
CALSCALE:GREGORIAN
METHOD:PUBLISH
BEGIN:VEVENT
DTSTAMP:20260421T194412Z
UID:8-239334@saintpeterumc.org
DTSTART:20260607T160000Z
DTEND:20260607T170000Z
CLASS:PUBLIC
CREATED:20260219T151731
DESCRIPTION:
LAST-MODIFIED:20260219T151731
LOCATION:
SUMMARY:Worship
URL;VALUE=URI:https://www.saintpeterumc.org/events/worship/2026-06-07
END:VEVENT
END:VCALENDAR
