BEGIN:VCALENDAR
VERSION:2.0
PRODID:icalendar-ruby
CALSCALE:GREGORIAN
METHOD:PUBLISH
BEGIN:VEVENT
DTSTAMP:20260422T004103Z
UID:8-239337@saintpeterumc.org
DTSTART:20260628T160000Z
DTEND:20260628T170000Z
CLASS:PUBLIC
CREATED:20260219T151731
DESCRIPTION:
LAST-MODIFIED:20260219T151731
LOCATION:
SUMMARY:Worship
URL;VALUE=URI:https://www.saintpeterumc.org/events/worship/2026-06-28
END:VEVENT
END:VCALENDAR
